BEGIN:VCALENDAR
VERSION:2.0
PRODID:-//Wycombe Friends of the Earth - ECPv6.15.17//NONSGML v1.0//EN
CALSCALE:GREGORIAN
METHOD:PUBLISH
X-ORIGINAL-URL:https://www.wycombefoe.org.uk
X-WR-CALDESC:Events for Wycombe Friends of the Earth
REFRESH-INTERVAL;VALUE=DURATION:PT1H
X-Robots-Tag:noindex
X-PUBLISHED-TTL:PT1H
BEGIN:VTIMEZONE
TZID:Europe/London
BEGIN:DAYLIGHT
TZOFFSETFROM:+0000
TZOFFSETTO:+0100
TZNAME:BST
DTSTART:20170326T010000
END:DAYLIGHT
BEGIN:STANDARD
TZOFFSETFROM:+0100
TZOFFSETTO:+0000
TZNAME:GMT
DTSTART:20171029T010000
END:STANDARD
BEGIN:DAYLIGHT
TZOFFSETFROM:+0000
TZOFFSETTO:+0100
TZNAME:BST
DTSTART:20180325T010000
END:DAYLIGHT
BEGIN:STANDARD
TZOFFSETFROM:+0100
TZOFFSETTO:+0000
TZNAME:GMT
DTSTART:20181028T010000
END:STANDARD
BEGIN:DAYLIGHT
TZOFFSETFROM:+0000
TZOFFSETTO:+0100
TZNAME:BST
DTSTART:20190331T010000
END:DAYLIGHT
BEGIN:STANDARD
TZOFFSETFROM:+0100
TZOFFSETTO:+0000
TZNAME:GMT
DTSTART:20191027T010000
END:STANDARD
END:VTIMEZONE
BEGIN:VEVENT
DTSTART;VALUE=DATE:20180916
DTEND;VALUE=DATE:20180917
DTSTAMP:20260423T154652
CREATED:20160601T151917Z
LAST-MODIFIED:20180618T142457Z
UID:3142-1537056000-1537142399@www.wycombefoe.org.uk
SUMMARY:Ozone layer day
DESCRIPTION:UN international Day for the Preservation of the Ozone Layer. \nWorldwide\, every 16th September.
URL:https://www.wycombefoe.org.uk/event/ozone-layer-day-2-2/
CATEGORIES:Uptodate for 2017,Uptodate for 2018
END:VEVENT
BEGIN:VEVENT
DTSTART;TZID=Europe/London:20180916T110000
DTEND;TZID=Europe/London:20180916T170000
DTSTAMP:20260423T154652
CREATED:20170129T151405Z
LAST-MODIFIED:20180726T205736Z
UID:3140-1537095600-1537117200@www.wycombefoe.org.uk
SUMMARY:Pann Mill Open day
DESCRIPTION:Enjoy a walk round the Rye and stop in on Pann Mill for cake/tea/coffee and view the variety of stands. \nFlour made in Pann Mill is usually on sale (dependent on water levels). \nLikely eco stalls: Wycombe Friends of the Earth and High Wycombe Beekeepers. \nCoincides with Heritage Open Days.
URL:https://www.wycombefoe.org.uk/event/pann-mill-open-day-5-2/
LOCATION:Pann Mill\, The Rye (nr Busy Bees nursery)\, High Wycombe\, HP11 1BJ\, United Kingdom
CATEGORIES:Uptodate for 2018
END:VEVENT
END:VCALENDAR