BEGIN:VCALENDAR
VERSION:2.0
PRODID:-//Wycombe Friends of the Earth - ECPv6.15.17//NONSGML v1.0//EN
CALSCALE:GREGORIAN
METHOD:PUBLISH
X-WR-CALNAME:Wycombe Friends of the Earth
X-ORIGINAL-URL:https://www.wycombefoe.org.uk
X-WR-CALDESC:Events for Wycombe Friends of the Earth
REFRESH-INTERVAL;VALUE=DURATION:PT1H
X-Robots-Tag:noindex
X-PUBLISHED-TTL:PT1H
BEGIN:VTIMEZONE
TZID:Europe/London
BEGIN:DAYLIGHT
TZOFFSETFROM:+0000
TZOFFSETTO:+0100
TZNAME:BST
DTSTART:20170326T010000
END:DAYLIGHT
BEGIN:STANDARD
TZOFFSETFROM:+0100
TZOFFSETTO:+0000
TZNAME:GMT
DTSTART:20171029T010000
END:STANDARD
BEGIN:DAYLIGHT
TZOFFSETFROM:+0000
TZOFFSETTO:+0100
TZNAME:BST
DTSTART:20180325T010000
END:DAYLIGHT
BEGIN:STANDARD
TZOFFSETFROM:+0100
TZOFFSETTO:+0000
TZNAME:GMT
DTSTART:20181028T010000
END:STANDARD
BEGIN:DAYLIGHT
TZOFFSETFROM:+0000
TZOFFSETTO:+0100
TZNAME:BST
DTSTART:20190331T010000
END:DAYLIGHT
BEGIN:STANDARD
TZOFFSETFROM:+0100
TZOFFSETTO:+0000
TZNAME:GMT
DTSTART:20191027T010000
END:STANDARD
END:VTIMEZONE
BEGIN:VEVENT
DTSTART;VALUE=DATE:20180801
DTEND;VALUE=DATE:20180802
DTSTAMP:20260423T170847
CREATED:20170301T100115Z
LAST-MODIFIED:20180606T151533Z
UID:3124-1533081600-1533167999@www.wycombefoe.org.uk
SUMMARY:OTHER LOCAL EVENTS
DESCRIPTION:Note for using this calendar. \nSome local environmental organisations list their own events. \nClick on the link to their websites below and search for ‘what’s on’ or ‘events’: \nChiltern Rangers \nChinnor and Thame Friends of the Earth \nHigh Wycombe Beekeepers \nMarlow in Transition \nRevive the Wye \nWycombe Environment Centre \nWycombe Wildlife Group \nAnd see… \nMarlow Repair Cafe \nFood shops and markets selling LOCAL produce \nUK Friends of the Earth \nPopulation Matters
URL:https://www.wycombefoe.org.uk/event/note-other-local-event-listings-10-2-2-8-4-2-2/
END:VEVENT
BEGIN:VEVENT
DTSTART;TZID=Europe/London:20180801T193000
DTEND;TZID=Europe/London:20180801T213000
DTSTAMP:20260423T170847
CREATED:20170129T143413Z
LAST-MODIFIED:20180727T154438Z
UID:3193-1533151800-1533159000@www.wycombefoe.org.uk
SUMMARY:Wycombe Friends of the Earth - TEMPORARY VENUE AT RYE LIDO CAFE
DESCRIPTION:  \nVenue will be In the Lido Cafe on the Rye. \n 
URL:https://www.wycombefoe.org.uk/event/wycombe-friends-of-the-earth-monthly-meeting-23-7-2-2/
LOCATION:Lido Cafe on the Rye\, The Rye (off Bassetsbury Lane)\, High Wycombe\, HP11 1QX
END:VEVENT
END:VCALENDAR