BEGIN:VCALENDAR
VERSION:2.0
PRODID:-//Wycombe Friends of the Earth - ECPv6.15.17//NONSGML v1.0//EN
CALSCALE:GREGORIAN
METHOD:PUBLISH
X-WR-CALNAME:Wycombe Friends of the Earth
X-ORIGINAL-URL:https://www.wycombefoe.org.uk
X-WR-CALDESC:Events for Wycombe Friends of the Earth
REFRESH-INTERVAL;VALUE=DURATION:PT1H
X-Robots-Tag:noindex
X-PUBLISHED-TTL:PT1H
BEGIN:VTIMEZONE
TZID:Europe/London
BEGIN:DAYLIGHT
TZOFFSETFROM:+0000
TZOFFSETTO:+0100
TZNAME:BST
DTSTART:20160327T010000
END:DAYLIGHT
BEGIN:STANDARD
TZOFFSETFROM:+0100
TZOFFSETTO:+0000
TZNAME:GMT
DTSTART:20161030T010000
END:STANDARD
BEGIN:DAYLIGHT
TZOFFSETFROM:+0000
TZOFFSETTO:+0100
TZNAME:BST
DTSTART:20170326T010000
END:DAYLIGHT
BEGIN:STANDARD
TZOFFSETFROM:+0100
TZOFFSETTO:+0000
TZNAME:GMT
DTSTART:20171029T010000
END:STANDARD
BEGIN:DAYLIGHT
TZOFFSETFROM:+0000
TZOFFSETTO:+0100
TZNAME:BST
DTSTART:20180325T010000
END:DAYLIGHT
BEGIN:STANDARD
TZOFFSETFROM:+0100
TZOFFSETTO:+0000
TZNAME:GMT
DTSTART:20181028T010000
END:STANDARD
END:VTIMEZONE
BEGIN:VEVENT
DTSTART;VALUE=DATE:20170227
DTEND;VALUE=DATE:20170313
DTSTAMP:20260423T124717
CREATED:20161102T154715Z
LAST-MODIFIED:20170131T105836Z
UID:1729-1488153600-1489363199@www.wycombefoe.org.uk
SUMMARY:Fairtrade fortnight
DESCRIPTION:The people who grow the food we take for granted can’t always feed their own families. We can support farmers and workers to put food on the table for their families by harnessing the power of a Fairtrade breakfast. During Fairtrade Fortnight\, we will be encouraging campaigners to inspire Big Fairtrade Breakfasts in their community – and wake others up to the challenges facing farmers and workers. \n  \n 
URL:https://www.wycombefoe.org.uk/event/fairtrade-fortnight-2/
END:VEVENT
BEGIN:VEVENT
DTSTART;VALUE=DATE:20170301
DTEND;VALUE=DATE:20170302
DTSTAMP:20260423T124717
CREATED:20161208T194045Z
LAST-MODIFIED:20170301T100753Z
UID:1834-1488326400-1488412799@www.wycombefoe.org.uk
SUMMARY:Note - other local event listings
DESCRIPTION:Note for using this calendar. \nSome local environmental organisations list their own events. \nClick on the link to their websites below and search for ‘what’s on’ or ‘events’: \nAmersham in Transition (dormant?) \nChiltern Rangers \nChinnor and Thame Friends of the Earth \nEmpower to Cook \nHigh Wycombe Beekeepers \nMarlow in Transition \nRevive the Wye \nWycombe Environment Centre \nWycombe Wildlife Group \nAnd see… \nFood shops and markets selling local produce \nUK Friends of the Earth
URL:https://www.wycombefoe.org.uk/event/note-other-local-event-listings-11/
END:VEVENT
BEGIN:VEVENT
DTSTART;TZID=Europe/London:20170301T193000
DTEND;TZID=Europe/London:20170301T213000
DTSTAMP:20260423T124717
CREATED:20170129T141803Z
LAST-MODIFIED:20170129T142842Z
UID:1923-1488396600-1488403800@www.wycombefoe.org.uk
SUMMARY:Wycombe Friends of the Earth - Monthly Meeting
DESCRIPTION:Everyone is welcome to come along for a cup of tea and chat. \nEasy parking (free from 7pm) is available at the car park next to Trinity Reformed Church. Only 5min walk to the Friends Meeting House from there. \nBus stop is also right next to the church. \nEmail us at  wycombefoe@yahoo.co.uk for more info.
URL:https://www.wycombefoe.org.uk/event/wycombe-friends-of-the-earth-monthly-meeting-14/
LOCATION:Friends Meeting House\, 25 London Road\, High Wycombe\, HP11 1BJ
END:VEVENT
END:VCALENDAR