BEGIN:VCALENDAR
VERSION:2.0
PRODID:-//Wycombe Friends of the Earth - ECPv6.15.17//NONSGML v1.0//EN
CALSCALE:GREGORIAN
METHOD:PUBLISH
X-ORIGINAL-URL:https://www.wycombefoe.org.uk
X-WR-CALDESC:Events for Wycombe Friends of the Earth
REFRESH-INTERVAL;VALUE=DURATION:PT1H
X-Robots-Tag:noindex
X-PUBLISHED-TTL:PT1H
BEGIN:VTIMEZONE
TZID:Europe/London
BEGIN:DAYLIGHT
TZOFFSETFROM:+0000
TZOFFSETTO:+0100
TZNAME:BST
DTSTART:20160327T010000
END:DAYLIGHT
BEGIN:STANDARD
TZOFFSETFROM:+0100
TZOFFSETTO:+0000
TZNAME:GMT
DTSTART:20161030T010000
END:STANDARD
BEGIN:DAYLIGHT
TZOFFSETFROM:+0000
TZOFFSETTO:+0100
TZNAME:BST
DTSTART:20170326T010000
END:DAYLIGHT
BEGIN:STANDARD
TZOFFSETFROM:+0100
TZOFFSETTO:+0000
TZNAME:GMT
DTSTART:20171029T010000
END:STANDARD
BEGIN:DAYLIGHT
TZOFFSETFROM:+0000
TZOFFSETTO:+0100
TZNAME:BST
DTSTART:20180325T010000
END:DAYLIGHT
BEGIN:STANDARD
TZOFFSETFROM:+0100
TZOFFSETTO:+0000
TZNAME:GMT
DTSTART:20181028T010000
END:STANDARD
END:VTIMEZONE
BEGIN:VEVENT
DTSTART;TZID=Europe/London:20170203T160000
DTEND;TZID=Europe/London:20170203T173000
DTSTAMP:20260423T110258
CREATED:20170111T191331Z
LAST-MODIFIED:20170203T202547Z
UID:1910-1486137600-1486143000@www.wycombefoe.org.uk
SUMMARY:Eco drinks in the Falcon - Most Fridays
DESCRIPTION:An environmentally aware group do informal meetups in the Falcon pub (off Church Street\, in High Wycombe town centre). \nIf you are interested\, please email Roland at rxb@supanet.com a few days in advance\, so we can confirm the Friday and look out for you at the venue. \nThe Falcon’s sustainable fish and chips is also recommended.
URL:https://www.wycombefoe.org.uk/event/eco-drinks-in-the-falcon-every-friday-of-the-month/
LOCATION:Falcon pub\, 9 Cornmarket\, High Wycombe\, HP11 2AX\, United Kingdom
END:VEVENT
END:VCALENDAR