BEGIN:VCALENDAR
VERSION:2.0
PRODID:-//Wycombe Friends of the Earth - ECPv6.15.17//NONSGML v1.0//EN
CALSCALE:GREGORIAN
METHOD:PUBLISH
X-ORIGINAL-URL:https://www.wycombefoe.org.uk
X-WR-CALDESC:Events for Wycombe Friends of the Earth
REFRESH-INTERVAL;VALUE=DURATION:PT1H
X-Robots-Tag:noindex
X-PUBLISHED-TTL:PT1H
BEGIN:VTIMEZONE
TZID:Europe/London
BEGIN:DAYLIGHT
TZOFFSETFROM:+0000
TZOFFSETTO:+0100
TZNAME:BST
DTSTART:20150329T010000
END:DAYLIGHT
BEGIN:STANDARD
TZOFFSETFROM:+0100
TZOFFSETTO:+0000
TZNAME:GMT
DTSTART:20151025T010000
END:STANDARD
BEGIN:DAYLIGHT
TZOFFSETFROM:+0000
TZOFFSETTO:+0100
TZNAME:BST
DTSTART:20160327T010000
END:DAYLIGHT
BEGIN:STANDARD
TZOFFSETFROM:+0100
TZOFFSETTO:+0000
TZNAME:GMT
DTSTART:20161030T010000
END:STANDARD
BEGIN:DAYLIGHT
TZOFFSETFROM:+0000
TZOFFSETTO:+0100
TZNAME:BST
DTSTART:20170326T010000
END:DAYLIGHT
BEGIN:STANDARD
TZOFFSETFROM:+0100
TZOFFSETTO:+0000
TZNAME:GMT
DTSTART:20171029T010000
END:STANDARD
END:VTIMEZONE
BEGIN:VEVENT
DTSTART;VALUE=DATE:20161101
DTEND;VALUE=DATE:20161102
DTSTAMP:20260423T051746
CREATED:20161004T102139Z
LAST-MODIFIED:20161004T102139Z
UID:1684-1477958400-1478044799@www.wycombefoe.org.uk
SUMMARY:Note - other local event listings
DESCRIPTION:Note for using this calendar. \nSome local environmental organisations list their own events. \nClick on the link to their websites below and search for ‘what’s on’ or ‘events’: \nAmersham in Transition \nChiltern Rangers \nChinnor and Thame Friends of the Earth \nHigh Wycombe Beekeepers \nMarlow in Transition \nRevive the Wye \nWycombe Environment Centre \nWycombe Wildlife Group \nAnd see… \nFood shops and markets selling local produce \nUK Friends of the Earth
URL:https://www.wycombefoe.org.uk/event/note-other-local-event-listings-8/
END:VEVENT
BEGIN:VEVENT
DTSTART;VALUE=DATE:20161101
DTEND;VALUE=DATE:20161102
DTSTAMP:20260423T051746
CREATED:20161102T141400Z
LAST-MODIFIED:20161102T141400Z
UID:1722-1477958400-1478044799@www.wycombefoe.org.uk
SUMMARY:Vegan day
DESCRIPTION:World vegan day.
URL:https://www.wycombefoe.org.uk/event/vegan-day/
END:VEVENT
END:VCALENDAR