BEGIN:VCALENDAR
VERSION:2.0
PRODID:-//Wycombe Friends of the Earth - ECPv6.15.17//NONSGML v1.0//EN
CALSCALE:GREGORIAN
METHOD:PUBLISH
X-ORIGINAL-URL:https://www.wycombefoe.org.uk
X-WR-CALDESC:Events for Wycombe Friends of the Earth
REFRESH-INTERVAL;VALUE=DURATION:PT1H
X-Robots-Tag:noindex
X-PUBLISHED-TTL:PT1H
BEGIN:VTIMEZONE
TZID:Europe/London
BEGIN:DAYLIGHT
TZOFFSETFROM:+0000
TZOFFSETTO:+0100
TZNAME:BST
DTSTART:20150329T010000
END:DAYLIGHT
BEGIN:STANDARD
TZOFFSETFROM:+0100
TZOFFSETTO:+0000
TZNAME:GMT
DTSTART:20151025T010000
END:STANDARD
BEGIN:DAYLIGHT
TZOFFSETFROM:+0000
TZOFFSETTO:+0100
TZNAME:BST
DTSTART:20160327T010000
END:DAYLIGHT
BEGIN:STANDARD
TZOFFSETFROM:+0100
TZOFFSETTO:+0000
TZNAME:GMT
DTSTART:20161030T010000
END:STANDARD
BEGIN:DAYLIGHT
TZOFFSETFROM:+0000
TZOFFSETTO:+0100
TZNAME:BST
DTSTART:20170326T010000
END:DAYLIGHT
BEGIN:STANDARD
TZOFFSETFROM:+0100
TZOFFSETTO:+0000
TZNAME:GMT
DTSTART:20171029T010000
END:STANDARD
END:VTIMEZONE
BEGIN:VEVENT
DTSTART;VALUE=DATE:20161008
DTEND;VALUE=DATE:20161017
DTSTAMP:20260423T051745
CREATED:20160826T173155Z
LAST-MODIFIED:20160826T173300Z
UID:1668-1475884800-1476662399@www.wycombefoe.org.uk
SUMMARY:Climate coalition campaign 'For the love of...'
DESCRIPTION:People all over the UK will be organising events in their local areas\, and we’d love you to be involved. \nWe’ll be seeing nature walks\, tea parties\, classic lobbies\, community energy visits and all sorts of other events to start those key conversations about climate change. All this will either involve MPs or be showcased to them\, so that politicians see\, feel and hear how much their constituents care about what we could lose to climate change. \nSo it’s time to get thinking! What can you do in your area to start that conversation with your local MP? \nSign up to let us know if you’re interested in attending or organising an event\, and for more information.
URL:https://www.wycombefoe.org.uk/event/climate-coalition-campaign-for-the-love-of-week-of-action/
END:VEVENT
END:VCALENDAR