BEGIN:VCALENDAR
VERSION:2.0
PRODID:-//Wycombe Friends of the Earth - ECPv6.15.17//NONSGML v1.0//EN
CALSCALE:GREGORIAN
METHOD:PUBLISH
X-ORIGINAL-URL:https://www.wycombefoe.org.uk
X-WR-CALDESC:Events for Wycombe Friends of the Earth
REFRESH-INTERVAL;VALUE=DURATION:PT1H
X-Robots-Tag:noindex
X-PUBLISHED-TTL:PT1H
BEGIN:VTIMEZONE
TZID:Europe/London
BEGIN:DAYLIGHT
TZOFFSETFROM:+0000
TZOFFSETTO:+0100
TZNAME:BST
DTSTART:20150329T010000
END:DAYLIGHT
BEGIN:STANDARD
TZOFFSETFROM:+0100
TZOFFSETTO:+0000
TZNAME:GMT
DTSTART:20151025T010000
END:STANDARD
BEGIN:DAYLIGHT
TZOFFSETFROM:+0000
TZOFFSETTO:+0100
TZNAME:BST
DTSTART:20160327T010000
END:DAYLIGHT
BEGIN:STANDARD
TZOFFSETFROM:+0100
TZOFFSETTO:+0000
TZNAME:GMT
DTSTART:20161030T010000
END:STANDARD
BEGIN:DAYLIGHT
TZOFFSETFROM:+0000
TZOFFSETTO:+0100
TZNAME:BST
DTSTART:20170326T010000
END:DAYLIGHT
BEGIN:STANDARD
TZOFFSETFROM:+0100
TZOFFSETTO:+0000
TZNAME:GMT
DTSTART:20171029T010000
END:STANDARD
END:VTIMEZONE
BEGIN:VEVENT
DTSTART;VALUE=DATE:20160611
DTEND;VALUE=DATE:20160620
DTSTAMP:20260422T205312
CREATED:20160406T150318Z
LAST-MODIFIED:20160406T150853Z
UID:1471-1465603200-1466380799@www.wycombefoe.org.uk
SUMMARY:Bike week
DESCRIPTION:Bike Week is an annual opportunity to promote cycling\, and show how cycling can easily be part of everyday life by encouraging ‘everyday cycling for everyone’. Demonstrating the social\, health and environmental benefits of cycling\, the week aims to get people to give cycling a go all over the UK\, whether this be for fun\, as a means of getting around to work or school\, the local shops or just to visit friends. \nSee website for events near you. \nEvery 2nd Saturday of June. UK. \n 
URL:https://www.wycombefoe.org.uk/event/bike-week/
END:VEVENT
BEGIN:VEVENT
DTSTART;VALUE=DATE:20160618
DTEND;VALUE=DATE:20160619
DTSTAMP:20260422T205312
CREATED:20160505T194821Z
LAST-MODIFIED:20160505T195145Z
UID:1547-1466208000-1466294399@www.wycombefoe.org.uk
SUMMARY:Revive the Wye event at Wooburn fete
DESCRIPTION:Promotional event for Revive the Wye. \nFor more details about this event and other events\, use contact form at \nwww.revivethewye.org.uk/contact-us/ \nYou can also enquire about practical conservation sessions. \n  \n 
URL:https://www.wycombefoe.org.uk/event/revive-the-wye-event-at-wooburn-fete/
LOCATION:Unnamed Venue\, High Wycombe
END:VEVENT
END:VCALENDAR